BEGIN:VCALENDAR
VERSION:2.0
PRODID:-//eventon.com NONSGML v1.0//EN
CALSCALE:GREGORIAN
METHOD:PUBLISH
BEGIN:VEVENT
UID:69e756d477f9a
DTSTAMP:20260421T105204Z
DTSTART:20260429T220000Z
DTEND:20260430T000000Z
LOCATION:
SUMMARY:Board of Review
DESCRIPTION:\nhttps://www.townoffarmington.org/events/board-of-review/
URL:https://www.townoffarmington.org/events/board-of-review/
END:VEVENT
END:VCALENDAR